BEGIN:VCALENDAR
VERSION:2.0
PRODID:-//FairManager - ECPv6.15.20//NONSGML v1.0//EN
CALSCALE:GREGORIAN
METHOD:PUBLISH
X-ORIGINAL-URL:https://fairmanager.de
X-WR-CALDESC:Veranstaltungen für FairManager
REFRESH-INTERVAL;VALUE=DURATION:PT1H
X-Robots-Tag:noindex
X-PUBLISHED-TTL:PT1H
BEGIN:VTIMEZONE
TZID:Europe/Berlin
BEGIN:DAYLIGHT
TZOFFSETFROM:+0100
TZOFFSETTO:+0200
TZNAME:CEST
DTSTART:20270328T010000
END:DAYLIGHT
BEGIN:STANDARD
TZOFFSETFROM:+0200
TZOFFSETTO:+0100
TZNAME:CET
DTSTART:20271031T010000
END:STANDARD
BEGIN:DAYLIGHT
TZOFFSETFROM:+0100
TZOFFSETTO:+0200
TZNAME:CEST
DTSTART:20280326T010000
END:DAYLIGHT
BEGIN:STANDARD
TZOFFSETFROM:+0200
TZOFFSETTO:+0100
TZNAME:CET
DTSTART:20281029T010000
END:STANDARD
BEGIN:DAYLIGHT
TZOFFSETFROM:+0100
TZOFFSETTO:+0200
TZNAME:CEST
DTSTART:20290325T010000
END:DAYLIGHT
BEGIN:STANDARD
TZOFFSETFROM:+0200
TZOFFSETTO:+0100
TZNAME:CET
DTSTART:20291028T010000
END:STANDARD
END:VTIMEZONE
BEGIN:VEVENT
DTSTART;VALUE=DATE:20280509
DTEND;VALUE=DATE:20280518
DTSTAMP:20260420T083436
CREATED:20251010T081501Z
LAST-MODIFIED:20251010T081912Z
UID:10000464-1841443200-1842220799@fairmanager.de
SUMMARY:drupa 2028 | Weltleitmesse für Printing Technologies
DESCRIPTION:Die drupa bietet Ihnen einen umfassenden Überblick über sämtliche Innovationen. Sie erhalten einen umfangreichen und schnellen Überblick zu allen Themen und Trends\, die die Branche bewegen. Denn die Messe ist die Weltleitmesse für Printing Technogies. Auf der Messe können sich Besucher und Anwender über alle für die Branche relevanten Dienstleistungen und Produkte gezielt informieren. \nDarüber hinaus ist die Messe Plattform für Innovationen und bietet einen lückenlosen Überblick über sämtliche Neuheiten des Marktes. Daher treffen Sie auf der drupa die erfolgreichsten Unternehmen der Branche. Zudem ermöglicht die Messe den Ausstellern den Einstieg in neue\, internationale Märkte und vermittelt allen Besuchern echte\, praxisnahe Zukunftsperspektiven und nachhaltigen Mehrwert. \nÜbrigens nutzen viele Unternehmen auf der Messe die IT- und Netzwerktechnik Dienstleistungen und den FairManager der Firma Hartburg
URL:https://fairmanager.de/event/drupa-2028-weltleitmesse-fuer-printing-technologies-2/
LOCATION:Messegelände Düsseldorf\, Stockumer Kirchstraße 61\, Düsseldorf\, Nordrhein-Westfalen\, 40474\, Deutschland
ATTACH;FMTTYPE=image/png:https://fairmanager.de/wp-content/uploads/2023/03/images-e1679992127949.png
ORGANIZER;CN="Messe D%C3%BCsseldorf":MAILTO:info@messe-duesseldorf.de
END:VEVENT
BEGIN:VEVENT
DTSTART;VALUE=DATE:20280911
DTEND;VALUE=DATE:20280916
DTSTAMP:20260420T083436
CREATED:20210525T204139Z
LAST-MODIFIED:20251008T145059Z
UID:10000407-1852243200-1852675199@fairmanager.de
SUMMARY:drinktec 2028 | Fachmesse der Getränkeindustrie
DESCRIPTION:Die drinktec bietet Ihnen einen umfassenden Überblick über sämtliche Innovationen. Sie erhalten einen umfangreichen und schnellen Überblick zu allen Themen und Trends\, die die Branche bewegen. Denn die Messe ist die weltweit führende Fachveranstaltung der Getränke- und Liquid-Food-Industrie. Auf der Messe können sich Besucher und Anwender über alle für die Branche relevanten Dienstleistungen und Produkte gezielt informieren. \nDarüber hinaus ist die Messe Plattform für Innovationen und bietet einen lückenlosen Überblick über sämtliche Neuheiten des Marktes. Daher treffen Sie auf der drinktec die erfolgreichsten Unternehmen der Branche. Zudem ermöglicht die Messe den Ausstellern den Einstieg in neue\, internationale Märkte und vermittelt allen Besuchern echte\, praxisnahe Zukunftsperspektiven und nachhaltigen Mehrwert. \nÜbrigens nutzen viele Unternehmen auf der Messe die IT- und Netzwerktechnik Dienstleistungen und den FairManager der Firma Hartburg.
URL:https://fairmanager.de/event/drinktec/
LOCATION:Messegelände München\, Am Messeturm\, München\, Bayern\, 81829\, Deutschland
ATTACH;FMTTYPE=image/png:https://fairmanager.de/wp-content/uploads/2021/05/drinktec-2013-logo-1379438179.png
ORGANIZER;CN="Yontex":MAILTO:info@yontex.com
END:VEVENT
END:VCALENDAR