BEGIN:VCALENDAR
VERSION:2.0
PRODID:-//FairManager - ECPv6.15.20//NONSGML v1.0//EN
CALSCALE:GREGORIAN
METHOD:PUBLISH
X-WR-CALNAME:FairManager
X-ORIGINAL-URL:https://fairmanager.de
X-WR-CALDESC:Veranstaltungen für FairManager
REFRESH-INTERVAL;VALUE=DURATION:PT1H
X-Robots-Tag:noindex
X-PUBLISHED-TTL:PT1H
BEGIN:VTIMEZONE
TZID:Europe/Berlin
BEGIN:DAYLIGHT
TZOFFSETFROM:+0100
TZOFFSETTO:+0200
TZNAME:CEST
DTSTART:20250330T010000
END:DAYLIGHT
BEGIN:STANDARD
TZOFFSETFROM:+0200
TZOFFSETTO:+0100
TZNAME:CET
DTSTART:20251026T010000
END:STANDARD
BEGIN:DAYLIGHT
TZOFFSETFROM:+0100
TZOFFSETTO:+0200
TZNAME:CEST
DTSTART:20260329T010000
END:DAYLIGHT
BEGIN:STANDARD
TZOFFSETFROM:+0200
TZOFFSETTO:+0100
TZNAME:CET
DTSTART:20261025T010000
END:STANDARD
BEGIN:DAYLIGHT
TZOFFSETFROM:+0100
TZOFFSETTO:+0200
TZNAME:CEST
DTSTART:20270328T010000
END:DAYLIGHT
BEGIN:STANDARD
TZOFFSETFROM:+0200
TZOFFSETTO:+0100
TZNAME:CET
DTSTART:20271031T010000
END:STANDARD
END:VTIMEZONE
BEGIN:VEVENT
DTSTART;VALUE=DATE:20260416
DTEND;VALUE=DATE:20260422
DTSTAMP:20260419T224618
CREATED:20211026T151023Z
LAST-MODIFIED:20251010T100219Z
UID:10000445-1776297600-1776815999@fairmanager.de
SUMMARY:EuroCucina 2026 | Fachmesse für Küchendesign
DESCRIPTION:Die EuroCucina bietet Ihnen einen umfassenden Überblick über sämtliche Innovationen. Sie erhalten einen umfangreichen und schnellen Überblick zu allen Themen und Trends\, die die Branche bewegen. Denn die Messe ist die weltweit führende Fachveranstaltung für Küchendesign. Auf der Messe können sich Besucher und Anwender über alle für die Branche relevanten Dienstleistungen und Produkte gezielt informieren. \nDarüber hinaus ist die Messe Plattform für Innovationen und bietet einen lückenlosen Überblick über sämtliche Neuheiten des Marktes. Daher treffen Sie auf der EuroCucina die erfolgreichsten Unternehmen der Branche. Zudem ermöglicht die Messe den Ausstellern den Einstieg in neue\, internationale Märkte und vermittelt allen Besuchern echte\, praxisnahe Zukunftsperspektiven und nachhaltigen Mehrwert. \nÜbrigens nutzen viele Unternehmen auf der Messe die IT- und Netzwerktechnik Dienstleistungen und den FairManager der Firma Hartburg
URL:https://fairmanager.de/event/eurocucina-2024-fachmesse-fuer-kuechendesign/
LOCATION:Messegelände Mailand\, Strada Statale Sempione\, 28\, Mailand\, Lombardei\, 20017\, Italien
ATTACH;FMTTYPE=image/jpeg:https://fairmanager.de/wp-content/uploads/2021/10/logo_eurocucina.jpg
ORGANIZER;CN="Fedelegno Arredo Eventi SPA":MAILTO:info@federlegnoarredo.it
END:VEVENT
END:VCALENDAR