BEGIN:VCALENDAR
VERSION:2.0
PRODID:-//FairManager - ECPv6.15.20//NONSGML v1.0//EN
CALSCALE:GREGORIAN
METHOD:PUBLISH
X-ORIGINAL-URL:https://fairmanager.de
X-WR-CALDESC:Veranstaltungen für FairManager
REFRESH-INTERVAL;VALUE=DURATION:PT1H
X-Robots-Tag:noindex
X-PUBLISHED-TTL:PT1H
BEGIN:VTIMEZONE
TZID:Europe/Berlin
BEGIN:DAYLIGHT
TZOFFSETFROM:+0100
TZOFFSETTO:+0200
TZNAME:CEST
DTSTART:20230326T010000
END:DAYLIGHT
BEGIN:STANDARD
TZOFFSETFROM:+0200
TZOFFSETTO:+0100
TZNAME:CET
DTSTART:20231029T010000
END:STANDARD
BEGIN:DAYLIGHT
TZOFFSETFROM:+0100
TZOFFSETTO:+0200
TZNAME:CEST
DTSTART:20240331T010000
END:DAYLIGHT
BEGIN:STANDARD
TZOFFSETFROM:+0200
TZOFFSETTO:+0100
TZNAME:CET
DTSTART:20241027T010000
END:STANDARD
BEGIN:DAYLIGHT
TZOFFSETFROM:+0100
TZOFFSETTO:+0200
TZNAME:CEST
DTSTART:20250330T010000
END:DAYLIGHT
BEGIN:STANDARD
TZOFFSETFROM:+0200
TZOFFSETTO:+0100
TZNAME:CET
DTSTART:20251026T010000
END:STANDARD
BEGIN:DAYLIGHT
TZOFFSETFROM:+0100
TZOFFSETTO:+0200
TZNAME:CEST
DTSTART:20260329T010000
END:DAYLIGHT
BEGIN:STANDARD
TZOFFSETFROM:+0200
TZOFFSETTO:+0100
TZNAME:CET
DTSTART:20261025T010000
END:STANDARD
BEGIN:DAYLIGHT
TZOFFSETFROM:+0100
TZOFFSETTO:+0200
TZNAME:CEST
DTSTART:20270328T010000
END:DAYLIGHT
BEGIN:STANDARD
TZOFFSETFROM:+0200
TZOFFSETTO:+0100
TZNAME:CET
DTSTART:20271031T010000
END:STANDARD
END:VTIMEZONE
BEGIN:VEVENT
DTSTART;VALUE=DATE:20260303
DTEND;VALUE=DATE:20260307
DTSTAMP:20260422T111129
CREATED:20211115T140248Z
LAST-MODIFIED:20241206T154849Z
UID:10000478-1772496000-1772841599@fairmanager.de
SUMMARY:INTERNATIONALE EISENWARENMESSE 2026
DESCRIPTION:Die INTERNATIONALE EISENWARENMESSE bietet Ihnen einen umfassenden Überblick über sämtliche Innovationen. Sie erhalten einen umfangreichen und schnellen Überblick zu allen Themen und Trends\, die die Branche bewegen. Denn die Messe ist die weltweit führende Fachveranstaltung für Werkzeuge. Auf der Messe können sich Besucher und Anwender über alle für die Branche relevanten Dienstleistungen und Produkte gezielt informieren. \nDarüber hinaus ist die Messe Plattform für Innovationen und bietet einen lückenlosen Überblick über sämtliche Neuheiten des Marktes. Daher treffen Sie auf der INTERNATIONALE EISENWARENMESSE die erfolgreichsten Unternehmen der Branche. Zudem ermöglicht die Messe den Ausstellern den Einstieg in neue\, internationale Märkte und vermittelt allen Besuchern echte\, praxisnahe Zukunftsperspektiven und nachhaltigen Mehrwert. \nÜbrigens nutzen viele Unternehmen auf der Messe die IT- und Netzwerktechnik Dienstleistungen und den FairManager der Firma Hartburg
URL:https://fairmanager.de/event/internationale-eisenwarenmesse-2024/
LOCATION:Messegelände Köln\, Messeplatz 1\, Köln\, Nordrhein-Westfalen\, 50679\, Deutschland
ATTACH;FMTTYPE=image/jpeg:https://fairmanager.de/wp-content/uploads/2021/11/1200x630_logo.jpg
ORGANIZER;CN="K%C3%B6lnmesse GmbH":MAILTO:info@koelnmesse.de
END:VEVENT
BEGIN:VEVENT
DTSTART;VALUE=DATE:20260120
DTEND;VALUE=DATE:20260124
DTSTAMP:20260422T111129
CREATED:20251110T073134Z
LAST-MODIFIED:20251110T074303Z
UID:10000533-1768867200-1769212799@fairmanager.de
SUMMARY:imm cologne 2026
DESCRIPTION:Die imm cologne bietet Ihnen einen umfassenden Überblick über sämtliche Innovationen. Sie erhalten einen umfangreichen und schnellen Überblick zu allen Themen und Trends\, die die Branche bewegen. Denn die Messe ist die weltweit führende Fachveranstaltung für die neuesten Einrichtungstrends. Auf der Messe können sich Besucher und Anwender über alle für die Branche relevanten Dienstleistungen und Produkte gezielt informieren. \nDarüber hinaus ist die Messe Plattform für Innovationen und bietet einen lückenlosen Überblick über sämtliche Neuheiten des Marktes. Daher treffen Sie auf der imm cologne die erfolgreichsten Unternehmen der Branche. Zudem ermöglicht die Messe den Ausstellern den Einstieg in neue\, internationale Märkte und vermittelt allen Besuchern echte\, praxisnahe Zukunftsperspektiven und nachhaltigen Mehrwert. \nÜbrigens nutzen viele Unternehmen auf der Messe die IT- und Netzwerktechnik Dienstleistungen und den FairManager der Firma Hartburg
URL:https://fairmanager.de/event/imm-cologne-20266/
LOCATION:Messegelände Köln\, Messeplatz 1\, Köln\, Nordrhein-Westfalen\, 50679\, Deutschland
ATTACH;FMTTYPE=image/jpeg:https://fairmanager.de/wp-content/uploads/2021/11/unnamed.jpg
ORGANIZER;CN="K%C3%B6lnmesse GmbH":MAILTO:info@koelnmesse.de
END:VEVENT
BEGIN:VEVENT
DTSTART;VALUE=DATE:20260120
DTEND;VALUE=DATE:20260124
DTSTAMP:20260422T111129
CREATED:20211116T075819Z
LAST-MODIFIED:20251107T155650Z
UID:10000491-1768867200-1769212799@fairmanager.de
SUMMARY:Living Kitchen 2026 | Fachmesse der Küchenbranche
DESCRIPTION:Die Living Kitchen bietet Ihnen einen umfassenden Überblick über sämtliche Innovationen. Sie erhalten einen umfangreichen und schnellen Überblick zu allen Themen und Trends\, die die Branche bewegen. Denn die Messe ist die weltweit führende Fachveranstaltung für die Küchenbranche. Auf der Messe können sich Besucher und Anwender über alle für die Branche relevanten Dienstleistungen und Produkte gezielt informieren. \nDarüber hinaus ist die Messe Plattform für Innovationen und bietet einen lückenlosen Überblick über sämtliche Neuheiten des Marktes. Daher treffen Sie auf der Living Kitchen die erfolgreichsten Unternehmen der Branche. Zudem ermöglicht die Messe den Ausstellern den Einstieg in neue\, internationale Märkte und vermittelt allen Besuchern echte\, praxisnahe Zukunftsperspektiven und nachhaltigen Mehrwert. \nÜbrigens nutzen viele Unternehmen auf der Messe die IT- und Netzwerktechnik Dienstleistungen und den FairManager der Firma Hartburg
URL:https://fairmanager.de/event/living-kitchen-2026-fachmesse-der-kuechenbranche/
LOCATION:Messegelände Köln\, Messeplatz 1\, Köln\, Nordrhein-Westfalen\, 50679\, Deutschland
ATTACH;FMTTYPE=image/jpeg:https://fairmanager.de/wp-content/uploads/2021/11/logo01-1.jpg
ORGANIZER;CN="K%C3%B6lnmesse GmbH":MAILTO:info@koelnmesse.de
END:VEVENT
BEGIN:VEVENT
DTSTART;VALUE=DATE:20250917
DTEND;VALUE=DATE:20250919
DTSTAMP:20260422T111129
CREATED:20211025T125018Z
LAST-MODIFIED:20241206T160347Z
UID:10000374-1758067200-1758239999@fairmanager.de
SUMMARY:DMEXCO 2025 | Fachmesse für digitales Marketing
DESCRIPTION:Die DMEXCO bietet Ihnen einen umfassenden Überblick über sämtliche Innovationen. Sie erhalten einen umfangreichen und schnellen Überblick zu allen Themen und Trends\, die die Branche bewegen. Denn die Messe ist die weltweit führende Fachveranstaltung für digitales Marketing- und Tech-Event. Auf der Messe können sich Besucher und Anwender über alle für die Branche relevanten Dienstleistungen und Produkte gezielt informieren. \nDarüber hinaus ist die Messe Plattform für Innovationen und bietet einen lückenlosen Überblick über sämtliche Neuheiten des Marktes. Daher treffen Sie auf der DMEXCO die erfolgreichsten Unternehmen der Branche. Zudem ermöglicht die Messe den Ausstellern den Einstieg in neue\, internationale Märkte und vermittelt allen Besuchern echte\, praxisnahe Zukunftsperspektiven und nachhaltigen Mehrwert. \nÜbrigens nutzen viele Unternehmen auf der Messe die IT- und Netzwerktechnik Dienstleistungen und den FairManager der Firma Hartburg
URL:https://fairmanager.de/event/dmexco-2024-fachmesse-fuer-digitales-marketing/
LOCATION:Messegelände Köln\, Messeplatz 1\, Köln\, Nordrhein-Westfalen\, 50679\, Deutschland
ATTACH;FMTTYPE=image/png:https://fairmanager.de/wp-content/uploads/2021/10/dmexco.png
ORGANIZER;CN="K%C3%B6lnmesse GmbH":MAILTO:info@koelnmesse.de
END:VEVENT
BEGIN:VEVENT
DTSTART;VALUE=DATE:20250909
DTEND;VALUE=DATE:20250912
DTSTAMP:20260422T111129
CREATED:20211116T065851Z
LAST-MODIFIED:20241206T155004Z
UID:10000487-1757376000-1757635199@fairmanager.de
SUMMARY:Kind + Jugend 2025 | Fachmesse für Kinderausstattung
DESCRIPTION:Die Kind + Jugend bietet Ihnen einen umfassenden Überblick über sämtliche Innovationen. Sie erhalten einen umfangreichen und schnellen Überblick zu allen Themen und Trends\, die die Branche bewegen. Denn die Messe ist die weltweit führende Fachveranstaltung für Kinderausstattung. Auf der Messe können sich Besucher und Anwender über alle für die Branche relevanten Dienstleistungen und Produkte gezielt informieren. \nDarüber hinaus ist die Messe Plattform für Innovationen und bietet einen lückenlosen Überblick über sämtliche Neuheiten des Marktes. Daher treffen Sie auf der Kind + Jugend die erfolgreichsten Unternehmen der Branche. Zudem ermöglicht die Messe den Ausstellern den Einstieg in neue\, internationale Märkte und vermittelt allen Besuchern echte\, praxisnahe Zukunftsperspektiven und nachhaltigen Mehrwert. \nÜbrigens nutzen viele Unternehmen auf der Messe die IT- und Netzwerktechnik Dienstleistungen und den FairManager der Firma Hartburg
URL:https://fairmanager.de/event/kind-jugend-2024-fachmesse-fuer-kinderausstattung/
LOCATION:Messegelände Köln\, Messeplatz 1\, Köln\, Nordrhein-Westfalen\, 50679\, Deutschland
ATTACH;FMTTYPE=image/jpeg:https://fairmanager.de/wp-content/uploads/2021/11/KindJugend-Logo.jpg
ORGANIZER;CN="K%C3%B6lnmesse GmbH":MAILTO:info@koelnmesse.de
END:VEVENT
BEGIN:VEVENT
DTSTART;VALUE=DATE:20250820
DTEND;VALUE=DATE:20250825
DTSTAMP:20260422T111129
CREATED:20211028T081927Z
LAST-MODIFIED:20241206T154542Z
UID:10000465-1755648000-1756079999@fairmanager.de
SUMMARY:Gamescom 2025 | Computer- und Videospielbranche
DESCRIPTION:Die Gamescom bietet Ihnen einen umfassenden Überblick über sämtliche Innovationen. Sie erhalten einen umfangreichen und schnellen Überblick zu allen Themen und Trends\, die die Branche bewegen. Denn die Messe ist die weltweit führende Fachveranstaltung für die Computer- und Videospielbranche. Auf der Messe können sich Besucher und Anwender über alle für die Branche relevanten Dienstleistungen und Produkte gezielt informieren. \nDarüber hinaus ist die Messe Plattform für Innovationen und bietet einen lückenlosen Überblick über sämtliche Neuheiten des Marktes. Daher treffen Sie auf der Gamescom die erfolgreichsten Unternehmen der Branche. Zudem ermöglicht die Messe den Ausstellern den Einstieg in neue\, internationale Märkte und vermittelt allen Besuchern echte\, praxisnahe Zukunftsperspektiven und nachhaltigen Mehrwert. \nÜbrigens nutzen viele Unternehmen auf der Messe die IT- und Netzwerktechnik Dienstleistungen und den FairManager der Firma Hartburg
URL:https://fairmanager.de/event/gamescom-2024-computer-und-videospielbranche/
LOCATION:Messegelände Köln\, Messeplatz 1\, Köln\, Nordrhein-Westfalen\, 50679\, Deutschland
ATTACH;FMTTYPE=image/jpeg:https://fairmanager.de/wp-content/uploads/2021/10/gamescom_logo_1200x675.jpg
ORGANIZER;CN="K%C3%B6lnmesse GmbH":MAILTO:info@koelnmesse.de
END:VEVENT
BEGIN:VEVENT
DTSTART;VALUE=DATE:20250624
DTEND;VALUE=DATE:20250627
DTSTAMP:20260422T111129
CREATED:20211116T103330Z
LAST-MODIFIED:20241206T153759Z
UID:10000512-1750723200-1750982399@fairmanager.de
SUMMARY:spoga+gafa 2025 | Fachmesse für Gartenlifestyle
DESCRIPTION:Die spoga+gafa bietet Ihnen einen umfassenden Überblick über sämtliche Innovationen. Sie erhalten einen umfangreichen und schnellen Überblick zu allen Themen und Trends\, die die Branche bewegen. Denn die Messe ist die weltweit führende Fachveranstaltung für Gartenlifestyle. Auf der Messe können sich Besucher und Anwender über alle für die Branche relevanten Dienstleistungen und Produkte gezielt informieren. \nDarüber hinaus ist die Messe Plattform für Innovationen und bietet einen lückenlosen Überblick über sämtliche Neuheiten des Marktes. Daher treffen Sie auf der spoga+gafa die erfolgreichsten Unternehmen der Branche. Zudem ermöglicht die Messe den Ausstellern den Einstieg in neue\, internationale Märkte und vermittelt allen Besuchern echte\, praxisnahe Zukunftsperspektiven und nachhaltigen Mehrwert. \nÜbrigens nutzen viele Unternehmen auf der Messe die IT- und Netzwerktechnik Dienstleistungen und den FairManager der Firma Hartburg
URL:https://fairmanager.de/event/spogagafa-2024-fachmesse-fuer-gartenlifestyle/
LOCATION:Messegelände Köln\, Messeplatz 1\, Köln\, Nordrhein-Westfalen\, 50679\, Deutschland
ATTACH;FMTTYPE=image/jpeg:https://fairmanager.de/wp-content/uploads/2021/11/spogagafa_rgb-e1692619765454.jpg
ORGANIZER;CN="K%C3%B6lnmesse GmbH":MAILTO:info@koelnmesse.de
END:VEVENT
BEGIN:VEVENT
DTSTART;VALUE=DATE:20250520
DTEND;VALUE=DATE:20250524
DTSTAMP:20260422T111129
CREATED:20211115T165032Z
LAST-MODIFIED:20230519T072052Z
UID:10000481-1747699200-1748044799@fairmanager.de
SUMMARY:interzum zow 2025 | Fachmesse der Möbelindustrie
DESCRIPTION:Die interzum bietet Ihnen einen umfassenden Überblick über sämtliche Innovationen. Sie erhalten einen umfangreichen und schnellen Überblick zu allen Themen und Trends\, die die Branche bewegen. Denn die Messe ist die weltweit führende Fachveranstaltung für die Möbelindustrie . Auf der Messe können sich Besucher und Anwender über alle für die Branche relevanten Dienstleistungen und Produkte gezielt informieren. \nDarüber hinaus ist die Messe Plattform für Innovationen und bietet einen lückenlosen Überblick über sämtliche Neuheiten des Marktes. Daher treffen Sie auf der interzum die erfolgreichsten Unternehmen der Branche. Zudem ermöglicht die Messe den Ausstellern den Einstieg in neue\, internationale Märkte und vermittelt allen Besuchern echte\, praxisnahe Zukunftsperspektiven und nachhaltigen Mehrwert. \nÜbrigens nutzen viele Unternehmen auf der Messe die IT- und Netzwerktechnik Dienstleistungen und den FairManager der Firma Hartburg
URL:https://fairmanager.de/event/interzum-zow-2022-fachmesse-der-moebelindustrie/
LOCATION:Messegelände Köln\, Messeplatz 1\, Köln\, Nordrhein-Westfalen\, 50679\, Deutschland
ATTACH;FMTTYPE=image/jpeg:https://fairmanager.de/wp-content/uploads/2021/11/iz21_logo_255-28-38_rgb.jpg
ORGANIZER;CN="K%C3%B6lnmesse GmbH":MAILTO:info@koelnmesse.de
END:VEVENT
BEGIN:VEVENT
DTSTART;VALUE=DATE:20250410
DTEND;VALUE=DATE:20250414
DTSTAMP:20260422T111129
CREATED:20211028T075855Z
LAST-MODIFIED:20241206T150323Z
UID:10000454-1744243200-1744588799@fairmanager.de
SUMMARY:FIBO 2025 | Fachmesse der Fitnessbranche
DESCRIPTION:Die FIBO bietet Ihnen einen umfassenden Überblick über sämtliche Innovationen. Sie erhalten einen umfangreichen und schnellen Überblick zu allen Themen und Trends\, die die Branche bewegen. Denn die Messe ist die weltweit führende Fachveranstaltung der Fitnessbranche. Auf der Messe können sich Besucher und Anwender über alle für die Branche relevanten Dienstleistungen und Produkte gezielt informieren. \nDarüber hinaus ist die Messe Plattform für Innovationen und bietet einen lückenlosen Überblick über sämtliche Neuheiten des Marktes. Daher treffen Sie auf der FIBO die erfolgreichsten Unternehmen der Branche. Zudem ermöglicht die Messe den Ausstellern den Einstieg in neue\, internationale Märkte und vermittelt allen Besuchern echte\, praxisnahe Zukunftsperspektiven und nachhaltigen Mehrwert. \nÜbrigens nutzen viele Unternehmen auf der Messe die IT- und Netzwerktechnik Dienstleistungen und den FairManager der Firma Hartburg
URL:https://fairmanager.de/event/fibo-2024-fachmesse-der-fitnessbranche/
LOCATION:Messegelände Köln\, Messeplatz 1\, Köln\, Nordrhein-Westfalen\, 50679\, Deutschland
ATTACH;FMTTYPE=image/png:https://fairmanager.de/wp-content/uploads/2021/10/l_fibo.png
ORGANIZER;CN="K%C3%B6lnmesse GmbH":MAILTO:info@koelnmesse.de
END:VEVENT
BEGIN:VEVENT
DTSTART;VALUE=DATE:20250202
DTEND;VALUE=DATE:20250206
DTSTAMP:20260422T111129
CREATED:20211116T064728Z
LAST-MODIFIED:20240402T123310Z
UID:10000484-1738454400-1738799999@fairmanager.de
SUMMARY:ISM 2025 | Fachmesse für Süßwaren und Snacks
DESCRIPTION:Die ISM bietet Ihnen einen umfassenden Überblick über sämtliche Innovationen. Sie erhalten einen umfangreichen und schnellen Überblick zu allen Themen und Trends\, die die Branche bewegen. Denn die Messe ist die weltweit führende Fachveranstaltung für Süßwaren und Snacks. Auf der Messe können sich Besucher und Anwender über alle für die Branche relevanten Dienstleistungen und Produkte gezielt informieren. \nDarüber hinaus ist die Messe Plattform für Innovationen und bietet einen lückenlosen Überblick über sämtliche Neuheiten des Marktes. Daher treffen Sie auf der ISM die erfolgreichsten Unternehmen der Branche. Zudem ermöglicht die Messe den Ausstellern den Einstieg in neue\, internationale Märkte und vermittelt allen Besuchern echte\, praxisnahe Zukunftsperspektiven und nachhaltigen Mehrwert. \nÜbrigens nutzen viele Unternehmen auf der Messe die IT- und Netzwerktechnik Dienstleistungen und den FairManager der Firma Hartburg
URL:https://fairmanager.de/event/ism-2024-fachmesse-fuer-suesswaren-und-snacks/
LOCATION:Messegelände Köln\, Messeplatz 1\, Köln\, Nordrhein-Westfalen\, 50679\, Deutschland
ATTACH;FMTTYPE=image/jpeg:https://fairmanager.de/wp-content/uploads/2021/11/ism_1200x675.jpg
ORGANIZER;CN="K%C3%B6lnmesse GmbH":MAILTO:info@koelnmesse.de
END:VEVENT
BEGIN:VEVENT
DTSTART;VALUE=DATE:20241022
DTEND;VALUE=DATE:20241027
DTSTAMP:20260422T111129
CREATED:20211116T092147Z
LAST-MODIFIED:20241211T133615Z
UID:10000500-1729555200-1729987199@fairmanager.de
SUMMARY:ORGATEC 2026 | Fachmesse für moderne Arbeitswelten
DESCRIPTION:Die ORGATEC bietet Ihnen einen umfassenden Überblick über sämtliche Innovationen. Sie erhalten einen umfangreichen und schnellen Überblick zu allen Themen und Trends\, die die Branche bewegen. Denn die Messe ist die weltweit führende Fachveranstaltung für moderne Arbeitswelten. Auf der Messe können sich Besucher und Anwender über alle für die Branche relevanten Dienstleistungen und Produkte gezielt informieren. \nDarüber hinaus ist die Messe Plattform für Innovationen und bietet einen lückenlosen Überblick über sämtliche Neuheiten des Marktes. Daher treffen Sie auf der ORGATEC die erfolgreichsten Unternehmen der Branche. Zudem ermöglicht die Messe den Ausstellern den Einstieg in neue\, internationale Märkte und vermittelt allen Besuchern echte\, praxisnahe Zukunftsperspektiven und nachhaltigen Mehrwert. \nÜbrigens nutzen viele Unternehmen auf der Messe die IT- und Netzwerktechnik Dienstleistungen und den FairManager der Firma Hartburg
URL:https://fairmanager.de/event/orgatec-2024-fachmesse-fuer-moderne-arbeitswelten/
LOCATION:Messegelände Köln\, Messeplatz 1\, Köln\, Nordrhein-Westfalen\, 50679\, Deutschland
ATTACH;FMTTYPE=image/jpeg:https://fairmanager.de/wp-content/uploads/2021/11/orgatec-logo-2018.jpg
ORGANIZER;CN="K%C3%B6lnmesse GmbH":MAILTO:info@koelnmesse.de
END:VEVENT
END:VCALENDAR